BEGIN:VCALENDAR
VERSION:2.0
PRODID:-//wp-events-plugin.com//7.2.3.1//EN
TZID:America/Anchorage
X-WR-TIMEZONE:America/Anchorage
BEGIN:VEVENT
UID:420@aknurse.org
DTSTART;TZID=America/Anchorage:20230314T170000
DTEND;TZID=America/Anchorage:20230314T180000
DTSTAMP:20230130T233449Z
URL:https://aknurse.org/event-list/legislative-committee-meeting-2023-03-1
 4/
SUMMARY:Legislative Committee Meeting
DESCRIPTION:We invite you to join our Legislative Committee to advocate for
  our profession and our patients at the state capitol.\n\nMeetings are hel
 d every other Tuesday during the Legislative Session. You can attend all o
 f the meetings\, some of them\, or just one to see what it's all about.\n\
 nThere are lots of ways\, both big and small\, that you can get involved a
 nd take action during the legislative session. As a committee member\, you
 'll learn about the legislative process\, receive insider updates\, and ha
 ve opportunities to write letters\, participate in bill hearings\, and hel
 p spread information to nurses across the state.\n\nMake your voice heard 
 in Juneau with the AaNA Legislative Committee. Working together\, we can t
 ackle the issues affecting nurses and the patients we serve.\n\nRegister f
 or the Legislative Committee meeting.
ATTACH;FMTTYPE=image/jpeg:https://aknurse.org/wp-content/uploads/2023/01/l
 egislative-committee-2023-1.png
CATEGORIES:Legislative
END:VEVENT
BEGIN:VTIMEZONE
TZID:America/Anchorage
X-LIC-LOCATION:America/Anchorage
BEGIN:DAYLIGHT
DTSTART:20230312T030000
TZOFFSETFROM:-0900
TZOFFSETTO:-0800
TZNAME:AKDT
END:DAYLIGHT
END:VTIMEZONE
END:VCALENDAR