BEGIN:VCALENDAR
VERSION:2.0
PRODID:-//wp-events-plugin.com//7.2.3.1//EN
TZID:America/Anchorage
X-WR-TIMEZONE:America/Anchorage
BEGIN:VEVENT
UID:562@aknurse.org
DTSTART;TZID=America/Anchorage:20250423T160000
DTEND;TZID=America/Anchorage:20250423T190000
DTSTAMP:20250418T201003Z
URL:https://aknurse.org/event-list/nurses-in-the-neighborhood/
SUMMARY:Nurses in the Neighborhood
DESCRIPTION:On April 23\, the Alaska Nurses Association is hosting Nurses 
 in the Neighborhood\, a community event to celebrate and promote the nursi
 ng profession.  \n\nNurses in the Neighborhood will be held on Wednesday
 \, April 23 from 4-7 PM at Alaska Pacific University's Atwood Center. \n\
 nThis event will feature information on nursing specialties and education 
 programs\, highlighting the profession to high school and college student
 s who may be considering a career in nursing.\n\nHighlights include:\n\n 	
 20+ nurses from across Alaska sharing professional stories and insights\n 
 	Nursing education programs sharing resources and admissions information\n
  	Interactive lab tours\, videos\, and a “Wall of Dreams” where attend
 ees can share their goals\n 	A selfie station and other engaging\, nursing
 -themed activities\n 	Local news media invited to cover and celebrate the 
 contributions of nurses\n\nVolunteer Opportunity\nWant to volunteer at the
  event to connect with the community and showcase your specialty? Your par
 ticipation would greatly enhance the event and help us inspire the next ge
 neration of nurses.\n\nTo volunteer\, reach out to Ammie Tremblay (ammie@a
 knurse.org).\nSpread the Word\nIn addition to inviting you to participate
 \, we’re also asking for your help to get the word out—especially to h
 igh school and college students.\n\nIf you know of other nurses who may w
 ant to participate\, please feel free to share this invitation or connect 
 them with Ammie Tremblay.\n\nThank you for considering our invitation and 
 helping to get the word out about this inspiring event!
ATTACH;FMTTYPE=image/jpeg:https://aknurse.org/wp-content/uploads/2025/04/N
 urses-in-the-hood-Instagram-Post.png
CATEGORIES:AaNA Events,Volunteer Opportunities
END:VEVENT
BEGIN:VTIMEZONE
TZID:America/Anchorage
X-LIC-LOCATION:America/Anchorage
BEGIN:DAYLIGHT
DTSTART:20250309T030000
TZOFFSETFROM:-0900
TZOFFSETTO:-0800
TZNAME:AKDT
END:DAYLIGHT
END:VTIMEZONE
END:VCALENDAR