BEGIN:VCALENDAR
VERSION:2.0
PRODID:-//wp-events-plugin.com//7.2.3.1//EN
TZID:America/Anchorage
X-WR-TIMEZONE:America/Anchorage
BEGIN:VEVENT
UID:510@aknurse.org
DTSTART;TZID=America/Anchorage:20241002T183000
DTEND;TZID=America/Anchorage:20241002T203000
DTSTAMP:20240905T174748Z
URL:https://aknurse.org/event-list/nursing-narratives-october-2024/
SUMMARY:Nursing Narratives
DESCRIPTION:Nursing Narratives\nWednesday\, October 2 - 6:30 PM\nBear Tooth
  Theatrepub\n\nJoin us at the Bear Tooth Theatrepub for Nursing Narratives
 \, an evening of storytelling by nurses brave enough to step into the spot
 light.\n\nAdmission is $20 and proceeds benefit the Foundation for Alaska 
 Nurses. Tickets are on sale now through the Bear Tooth box office.\n\nHave
  a story you'd like to tell? Get in touch with host Jennifer Hazen.\n\n&nb
 sp\;
ATTACH;FMTTYPE=image/jpeg:https://aknurse.org/wp-content/uploads/2024/08/N
 ursing-Narratives-October-2024-Square.png
CATEGORIES:Special Events
LOCATION:Bear Tooth Theatrepub\, 1230 W 27th Ave\, Anchorage\, AK\, 99503\,
  United States
GEO:61.195925;-149.907466
X-APPLE-STRUCTURED-LOCATION;VALUE=URI;X-ADDRESS=1230 W 27th Ave\, Anchorage
 \, AK\, 99503\, United States;X-APPLE-RADIUS=100;X-TITLE=Bear Tooth Theatr
 epub:geo:61.195925,-149.907466
END:VEVENT
BEGIN:VTIMEZONE
TZID:America/Anchorage
X-LIC-LOCATION:America/Anchorage
BEGIN:DAYLIGHT
DTSTART:20240310T030000
TZOFFSETFROM:-0900
TZOFFSETTO:-0800
TZNAME:AKDT
END:DAYLIGHT
END:VTIMEZONE
END:VCALENDAR