BEGIN:VCALENDAR
VERSION:2.0
PRODID:-//wp-events-plugin.com//7.2.3.1//EN
TZID:America/Anchorage
X-WR-TIMEZONE:America/Anchorage
BEGIN:VEVENT
UID:526@aknurse.org
DTSTART;TZID=America/Anchorage:20250819T180000
DTEND;TZID=America/Anchorage:20250819T190000
DTSTAMP:20250818T202003Z
URL:https://aknurse.org/event-list/tuesday-talks-august-2025/
SUMMARY:Tuesday Talks - CANCELED
DESCRIPTION:We regret to inform you that due to unforeseen circumstances\, 
 this month's Tuesday Talks event has been canceled. This presentation is t
 entatively rescheduled for September 19.\n\nThank you for your understandi
 ng!
ATTACH;FMTTYPE=image/jpeg:https://aknurse.org/wp-content/uploads/2025/08/C
 anceled-Tuesday-Talks-Aug-2025.png
CATEGORIES:AaNA Events,Tuesday Talks
END:VEVENT
BEGIN:VTIMEZONE
TZID:America/Anchorage
X-LIC-LOCATION:America/Anchorage
BEGIN:DAYLIGHT
DTSTART:20250309T030000
TZOFFSETFROM:-0900
TZOFFSETTO:-0800
TZNAME:AKDT
END:DAYLIGHT
END:VTIMEZONE
END:VCALENDAR